BEGIN:VCALENDAR
VERSION:2.0
PRODID:-//Tukios.com/
BEGIN:VEVENT
UID:986c8c23-d758-49bd-a01c-d79c14f21acd@www.winscottfuneral.com
DTSTAMP:20260422T005305Z
DTSTART:20260424T170000Z
DTEND:20260424T180000Z
SUMMARY:Funeral Service
DESCRIPTION:
URL:https://www.winscottfuneral.com/obituaries/john-cornwell
LOCATION:The Church of Jesus Christ of Latter-Day Saints 100 Paint Pony 
	Trail  Fort Worth TX 76108
GEO:32.7603219;-97.5004184
END:VEVENT
END:VCALENDAR