BEGIN:VCALENDAR
VERSION:2.0
PRODID:-//Tukios.com/
BEGIN:VEVENT
UID:d28f59fb-f604-4112-9a6d-dea1ffcef9c3@www.winscottfuneral.com
DTSTAMP:20260422T005120Z
DTSTART:20260423T230000Z
DTEND:20260424T010000Z
SUMMARY:Visitation
DESCRIPTION:
URL:https://www.winscottfuneral.com/obituaries/john-cornwell
LOCATION: 1001 Winscott Rd  Benbrook TX 76126
GEO:32.6767165;-97.4521553
END:VEVENT
END:VCALENDAR